BEGIN:VCALENDAR
VERSION:2.0
PRODID:icalendar-ruby
CALSCALE:GREGORIAN
METHOD:PUBLISH
BEGIN:VEVENT
DTSTAMP:20260420T040622Z
UID:319-39671@breezyhill.net
DTSTART:20260424T220000Z
DTEND:20260424T220000Z
CLASS:PUBLIC
CREATED:20260327T172248
DESCRIPTION:
LAST-MODIFIED:20260327T172248
LOCATION:Breezy Hill Baptist Church-Chapel
SUMMARY:Homeschool Play 
URL;VALUE=URI:https://www.breezyhill.net/events/homeschool-play/2026-04-24
ATTACH;FILENAME=Your paragraph text-10.png;FMTTYPE=image/png:https://dq5pwp
 g1q8ru0.cloudfront.net/2026/03/27/21/22/48/67ba35bf-0ae0-45ad-a3c8-4fb3197
 5cc4f/Your%20paragraph%20text-10.png
END:VEVENT
END:VCALENDAR
